BEGIN:VCALENDAR
VERSION:2.0
PRODID:-//swoogo.com//NONSGML kigkonsult.se iCalcreator 2.41.90//
CALSCALE:GREGORIAN
UID:34613630-3339-4330-a430-313332633266
BEGIN:VEVENT
UID:8dfa1da14c088e8653223d7e2849701c38f29f8a@swoogo.com
DTSTAMP:20260423T173801Z
DESCRIPTION:_Lilly Andersen\, U.S. Botanic Garden Family Education Speciali
 st_\nCelebrate Earth Day with Lilly and explore how plants make their own 
 food using energy from the sun! We'll explore scientific instruments like 
 CO2 sensors and refractometers. These tools will help us measure the chang
 es that occur within a plant during the process of photosynthesis\, and we
 'll discuss why plants are necessary for the health of our planet. \n\nPle
 ase note: This is a drop-in experience and will be repeated several times 
 over the course of the designated program time.  
DTSTART:20260424T180000Z
DTEND:20260424T200000Z
LAST-MODIFIED:20260423T173801Z
LOCATION:United States Botanic Garden\, 100 Maryland Ave SW\, Conservatory 
 Children's Garden\, Washington\, DC 20001\, United States
SEQUENCE:0
STATUS:CONFIRMED
SUMMARY:Family Program: Plants Make Their Own Food! Exploring Photosynthesi
 s (On-site Drop-in Program)
TRANSP:OPAQUE
X-ALT-DESC;FMTTYPE=text/html:<p><span style='font-size:18px\;'><em>Lilly An
 dersen\, U.S. Botanic Garden Family Education Specialist</em></span><br />
 \n<span style='font-size:18px\;'>Celebrate Earth Day with Lilly and explor
 e how plants make their own food using energy from the sun! We'll explore 
 scientific instruments like CO2 sensors and refractometers. These tools wi
 ll help us measure the changes that occur within a plant during the proces
 s of photosynthesis\, and we'll discuss why plants are necessary for the h
 ealth of our planet. </span></p>\n\n<p><span style='font-size:18px\;'>Plea
 se note: This is a drop-in experience and will be repeated several times o
 ver the course of the designated program time.  </span></p>
BEGIN:VALARM
UID:34346566-3436-4437-a130-346134623739
ACTION:DISPLAY
DESCRIPTION:_Lilly Andersen\, U.S. Botanic Garden Family Education Speciali
 st_\nCelebrate Earth Day with Lilly and explore how plants make their own 
 food using energy from the sun! We'll explore scientific instruments like 
 CO2 sensors and refractometers. These tools will help us measure the chang
 es that occur within a plant during the process of photosynthesis\, and we
 'll discuss why plants are necessary for the health of our planet. \n\nPle
 ase note: This is a drop-in experience and will be repeated several times 
 over the course of the designated program time.  
TRIGGER:-PT1H
END:VALARM
END:VEVENT
END:VCALENDAR
