BEGIN:VCALENDAR
VERSION:2.0
PRODID:-//swoogo.com//NONSGML kigkonsult.se iCalcreator 2.41.90//
CALSCALE:GREGORIAN
UID:30323637-6331-4364-b363-333535623938
BEGIN:VEVENT
UID:339a28b98c204920b4150ca593f1012a8fa0f5b0@swoogo.com
DTSTAMP:20260423T192119Z
DESCRIPTION:_George Guenthner\, USBG Gardener (Advanced)_\nMeet an orchid e
 xpert from Smithsonian Gardens or the United States Botanic Garden and lea
 rn more about this incredible plant family! This week\, USBG Gardener (Adv
 anced) George Guenthner will share tips for caring for orchids at home\, i
 ncluding how to repot an orchid. Drop in at any time during the program an
 d be sure to bring your orchid questions.\n\nPlease note: This program is 
 offered in partnership with Smithsonian Gardens and the _More than a Flowe
 r: The Connective Power of Orchids [https://gardens.si.edu/exhibitions/con
 nective-power-of-orchids/] _exhibition at the National Museum of African A
 merican History and Culture (NMAAHC). Free timed-entry passes are required
  to enter the National Museum of African American History and Culture for 
 this program. Reserve your entry pass here [https://tickets.si.edu/nmaahc/
 events/4561cfa0-226f-6a98-2228-1b72ec70494f].
DTSTART:20260311T153000Z
DTEND:20260311T173000Z
LAST-MODIFIED:20260423T192119Z
LOCATION:Smithsonian Institution National Museum of African American Histor
 y & Culture\, 1400 Constitution Ave. NW\, Washington\, DC 20560\, L2 Class
 room\, Washington\, DC 20560\, United States
SEQUENCE:0
STATUS:CONFIRMED
SUMMARY:Expert Is In: Growing Orchids at Home (Off-site Demonstration)
TRANSP:OPAQUE
X-ALT-DESC;FMTTYPE=text/html:<p><span style='font-size:18px\;'><em>George G
 uenthner\, USBG Gardener (Advanced)</em><br />\nMeet an orchid expert from
  Smithsonian Gardens or the United States Botanic Garden and learn more ab
 out this incredible plant family! This week\, USBG Gardener (Advanced) Geo
 rge Guenthner will share tips for caring for orchids at home\, including h
 ow to repot an orchid. Drop in at any time during the program and be sure 
 to bring your orchid questions.</span></p>\n\n<p><span style='font-size:18
 px\;'>Please note: This program is offered in partnership with Smithsonian
  Gardens and the <em><a href='https://gardens.si.edu/exhibitions/connectiv
 e-power-of-orchids/' target='_blank' rel='noreferrer noopener'>More than a
  Flower: The Connective Power of Orchids</a> </em>exhibition at the Nation
 al Museum of African American History and Culture (NMAAHC). Free timed-ent
 ry passes are required to enter the National Museum of African American Hi
 story and Culture for this program. Reserve your entry pass <span style='t
 ext-decoration:underline\;'><a href='https://tickets.si.edu/nmaahc/events/
 4561cfa0-226f-6a98-2228-1b72ec70494f' target='_blank' rel='noreferrer noop
 ener'>here</a></span>.</span></p>
BEGIN:VALARM
UID:63303131-6631-4161-a631-643265653337
ACTION:DISPLAY
DESCRIPTION:_George Guenthner\, USBG Gardener (Advanced)_\nMeet an orchid e
 xpert from Smithsonian Gardens or the United States Botanic Garden and lea
 rn more about this incredible plant family! This week\, USBG Gardener (Adv
 anced) George Guenthner will share tips for caring for orchids at home\, i
 ncluding how to repot an orchid. Drop in at any time during the program an
 d be sure to bring your orchid questions.\n\nPlease note: This program is 
 offered in partnership with Smithsonian Gardens and the _More than a Flowe
 r: The Connective Power of Orchids [https://gardens.si.edu/exhibitions/con
 nective-power-of-orchids/] _exhibition at the National Museum of African A
 merican History and Culture (NMAAHC). Free timed-entry passes are required
  to enter the National Museum of African American History and Culture for 
 this program. Reserve your entry pass here [https://tickets.si.edu/nmaahc/
 events/4561cfa0-226f-6a98-2228-1b72ec70494f].
TRIGGER:-PT1H
END:VALARM
END:VEVENT
END:VCALENDAR
